BEGIN:VCALENDAR
VERSION:2.0
PRODID:-//Tukios.com/
BEGIN:VEVENT
UID:e7eca468-3e8d-40a7-b575-512cd1e378b9@www.pecosfuneralhome.com
DTSTAMP:20260424T061315Z
DTSTART:20260425T150000Z
DTEND:20260425T160000Z
SUMMARY:Graveside Service
DESCRIPTION:
URL:https://www.pecosfuneralhome.com/obituaries/roman-rodriguez
LOCATION:   Pecos TX 79772
GEO:31.4229124;-103.4932293
END:VEVENT
END:VCALENDAR