BEGIN:VCALENDAR
VERSION:2.0
PRODID:-//Tukios.com/
BEGIN:VEVENT
UID:c7edf261-5f6f-46a0-98a9-03dcdb96ef1d@www.pecosfuneralhome.com
DTSTAMP:20260424T060811Z
DTSTART:20260425T000000Z
DTEND:20260425T010000Z
SUMMARY:Rosary
DESCRIPTION:
URL:https://www.pecosfuneralhome.com/obituaries/roman-rodriguez
LOCATION: 607 W 3rd St  Pecos TX 79772
GEO:31.4238708;-103.5011978
END:VEVENT
END:VCALENDAR