BEGIN:VCALENDAR
VERSION:2.0
PRODID:-//Tukios.com/
BEGIN:VEVENT
UID:451542e8-b092-4ded-a895-4cd23ef39853@www.pecosfuneralhome.com
DTSTAMP:20260424T060945Z
DTSTART:20260424T180000Z
DTEND:20260425T020000Z
SUMMARY:Visitation
DESCRIPTION:
URL:https://www.pecosfuneralhome.com/obituaries/roman-rodriguez
LOCATION: 607 W 3rd St  Pecos TX 79772
GEO:31.4238708;-103.5011978
END:VEVENT
END:VCALENDAR