BEGIN:VCALENDAR
VERSION:2.0
PRODID:-//Tukios.com/
BEGIN:VEVENT
UID:4ed04027-3080-4368-a4ca-06c172e519e2@www.pecosfuneralhome.com
DTSTAMP:20260422T224737Z
DTSTART:20260424
SUMMARY:Interment
DESCRIPTION:
URL:https://www.pecosfuneralhome.com/obituaries/maria-lujan
LOCATION: Evergreen St  Pecos TX 79772
GEO:31.3972035;-103.539822
END:VEVENT
END:VCALENDAR