BEGIN:VCALENDAR
VERSION:2.0
PRODID:-//Tukios.com/
BEGIN:VEVENT
UID:83f7876c-d90b-4901-bc04-3968fa6b058c@www.pecosfuneralhome.com
DTSTAMP:20260422T224736Z
DTSTART:20260424T150000Z
DTEND:20260424T160000Z
SUMMARY:Funeral Service
DESCRIPTION:
URL:https://www.pecosfuneralhome.com/obituaries/maria-lujan
LOCATION: 607 W 3rd St  Pecos TX 79772
GEO:31.4238708;-103.5011978
END:VEVENT
END:VCALENDAR