BEGIN:VCALENDAR
VERSION:2.0
PRODID:-//Tukios.com/
BEGIN:VEVENT
UID:7c6876f2-4d5b-4b81-ab08-8305e22e6761@www.pecosfuneralhome.com
DTSTAMP:20260422T224313Z
DTSTART:20260423T180000Z
DTEND:20260424T020000Z
SUMMARY:Visitation
DESCRIPTION:
URL:https://www.pecosfuneralhome.com/obituaries/maria-lujan
LOCATION: 607 W 3rd St  Pecos TX 79772
GEO:31.4238708;-103.5011978
END:VEVENT
END:VCALENDAR